{ "currentVersion": 11.2, "cimVersion": "3.2.0", "serviceDescription": "

Imagery 1994 - Council Bluffs, Iowa<\/span><\/p><\/div><\/div><\/div>", "mapName": "Layers", "description": "", "copyrightText": "Pottawattamie County, IA", "supportsDynamicLayers": false, "layers": [ { "id": 0, "name": "BW94_CB", "parentLayerId": -1, "defaultVisibility": true, "subLayerIds": null, "minScale": 0, "maxScale": 0, "type": "Raster Layer", "supportsDynamicLegends": true } ], "tables": [], "spatialReference": { "wkid": 102100, "latestWkid": 3857, "xyTolerance": 0.001, "zTolerance": 0.001, "mTolerance": 0.001, "falseX": -20037700, "falseY": -30241100, "xyUnits": 10000, "falseZ": -100000, "zUnits": 10000, "falseM": -100000, "mUnits": 10000 }, "singleFusedMapCache": true, "tileInfo": { "rows": 256, "cols": 256, "dpi": 96, "format": "MIXED", "compressionQuality": 55, "origin": { "x": -2.0037508342787E7, "y": 2.0037508342787E7 }, "spatialReference": { "wkid": 102100, "latestWkid": 3857, "xyTolerance": 0.001, "zTolerance": 2.0E-4, "mTolerance": 2.0E-4, "falseX": -20037700, "falseY": -30241100, "xyUnits": 1.4892314192838538E8, "falseZ": -100000, "zUnits": 10000, "falseM": -100000, "mUnits": 10000 }, "lods": [ { "level": 0, "resolution": 156543.03392800014, "scale": 5.91657527591555E8 }, { "level": 1, "resolution": 78271.51696399994, "scale": 2.95828763795777E8 }, { "level": 2, "resolution": 39135.75848200009, "scale": 1.47914381897889E8 }, { "level": 3, "resolution": 19567.87924099992, "scale": 7.3957190948944E7 }, { "level": 4, "resolution": 9783.93962049996, "scale": 3.6978595474472E7 }, { "level": 5, "resolution": 4891.96981024998, "scale": 1.8489297737236E7 }, { "level": 6, "resolution": 2445.98490512499, "scale": 9244648.868618 }, { "level": 7, "resolution": 1222.992452562495, "scale": 4622324.434309 }, { "level": 8, "resolution": 611.4962262813797, "scale": 2311162.217155 }, { "level": 9, "resolution": 305.74811314055756, "scale": 1155581.108577 }, { "level": 10, "resolution": 152.87405657041106, "scale": 577790.554289 }, { "level": 11, "resolution": 76.43702828507324, "scale": 288895.277144 }, { "level": 12, "resolution": 38.21851414253662, "scale": 144447.638572 }, { "level": 13, "resolution": 19.10925707126831, "scale": 72223.819286 }, { "level": 14, "resolution": 9.554628535634155, "scale": 36111.909643 }, { "level": 15, "resolution": 4.77731426794937, "scale": 18055.954822 }, { "level": 16, "resolution": 2.388657133974685, "scale": 9027.977411 }, { "level": 17, "resolution": 1.1943285668550503, "scale": 4513.988705 }, { "level": 18, "resolution": 0.5971642835598172, "scale": 2256.994353 }, { "level": 19, "resolution": 0.29858214164761665, "scale": 1128.497176 }, { "level": 20, "resolution": 0.14929107082380833, "scale": 564.248588 } ] }, "storageInfo": { "storageFormat": "esriMapCacheStorageModeCompact", "packetSize": 128 }, "initialExtent": { "xmin": -1.069728812554249E7, "ymin": 5032500.640694401, "xmax": -1.0641416894402714E7, "ymax": 5064695.6701767305, "spatialReference": { "cs": "pcs", "wkid": 102100 } }, "fullExtent": { "xmin": -1.0700910608374495E7, "ymin": 5028210.180889424, "xmax": -1.0580522288825504E7, "ymax": 5095016.143610578, "spatialReference": { "cs": "pcs", "wkid": 102100 } }, "datesInUnknownTimezone": false, "minScale": 5.91657527591555E8, "maxScale": 70.5310735, "units": "esriMeters", "supportedImageFormatTypes": "PNG32,PNG24,PNG,JPG,DIB,TIFF,EMF,PS,PDF,GIF,SVG,SVGZ,BMP", "documentInfo": { "Title": "Imagery 1994 - Council Bluffs, Iowa", "Author": "", "Comments": "

Imagery 1994 - Council Bluffs, Iowa<\/SPAN><\/P><\/DIV><\/DIV><\/DIV>", "Subject": "Imagery 1994 - Council Bluffs, Iowa", "Category": "", "Version": "2.4.0", "AntialiasingMode": "None", "TextAntialiasingMode": "Force", "Keywords": "Imagery,1994,Council Bluffs,Iowa" }, "supportsQueryDomains": true, "capabilities": "Map,Query,Data", "supportedQueryFormats": "JSON, geoJSON, PBF", "exportTilesAllowed": false, "referenceScale": 0.0, "datumTransformations": [ { "geoTransforms": [ { "wkid": 1515, "latestWkid": 1515, "transformForward": true, "name": "NAD_1983_To_WGS_1984_5" } ] }, { "geoTransforms": [ { "wkid": 1515, "latestWkid": 1515, "transformForward": false, "name": "NAD_1983_To_WGS_1984_5" } ] } ], "supportsDatumTransformation": true, "archivingInfo": {"supportsHistoricMoment": false}, "supportsClipping": true, "supportsSpatialFilter": true, "supportsTimeRelation": true, "supportsQueryDataElements": true, "mapUnits": {"uwkid": 9001}, "maxRecordCount": 1000, "maxImageHeight": 4096, "maxImageWidth": 4096, "supportedExtensions": "", "resampling": true, "serviceItemId": "c2b6d123f76a47e98d2e78404cb75fc4" }